BEGIN:VCALENDAR
PRODID:sbwc.georgia.gov
VERSION:2.0
CALSCALE:GREGORIAN
BEGIN:VEVENT
UID:52661c2ffab04101866abe9ec8d30566
DTSTAMP:20260422T224232Z
SUMMARY:2026 Regional Educational Series - Savannah
URL:https://sbwc.georgia.gov/events/2026-05-06/2026-regional-educational-se
 ries-savannah
DTSTART;VALUE=DATE:20260506
DTEND;VALUE=DATE:20260507
LOCATION:Savannah Convention Center 1 International Dr  Savannah\, GA 31421
  US
X-LIC-LOCATION:America/New_York
X-WR-TIMEZONE:America/New_York
END:VEVENT
BEGIN:VTIMEZONE
TZID:America/New_York
END:VTIMEZONE
END:VCALENDAR
