BEGIN:VCALENDAR
PRODID:sbwc.georgia.gov
VERSION:2.0
CALSCALE:GREGORIAN
BEGIN:VEVENT
UID:4245470fd973d98667ff80a9c4539f18
DTSTAMP:20260422T224240Z
SUMMARY:2026 Regional Educational Series - Cartersville
URL:https://sbwc.georgia.gov/events/2026-04-27/2026-regional-educational-se
 ries-cartersville
DTSTART;VALUE=DATE:20260427
DTEND;VALUE=DATE:20270428
LOCATION:Savoy Automobile Museum 3 Savoy Ln  Cartersville\, GA 30120 US
X-LIC-LOCATION:America/New_York
X-WR-TIMEZONE:America/New_York
END:VEVENT
BEGIN:VTIMEZONE
TZID:America/New_York
END:VTIMEZONE
END:VCALENDAR
