BEGIN:VCALENDAR
PRODID:sbwc.georgia.gov
VERSION:2.0
CALSCALE:GREGORIAN
BEGIN:VEVENT
UID:946daedbab9134a4053127e0020bca9a
DTSTAMP:20260422T224239Z
SUMMARY:2026 SBWC Annual Educational Conference
URL:https://sbwc.georgia.gov/events/2026-08-31/2026-annual-conference
DTSTART;VALUE=DATE:20260831
DTEND;VALUE=DATE:20260903
LOCATION:The Hotel at Avalon 9000 Avalon Boulevard  Alpharetta\, GA 30009 U
 S
X-LIC-LOCATION:America/New_York
X-WR-TIMEZONE:America/New_York
END:VEVENT
BEGIN:VTIMEZONE
TZID:America/New_York
END:VTIMEZONE
END:VCALENDAR
