BEGIN:VCALENDAR
PRODID:sbwc.georgia.gov
VERSION:2.0
CALSCALE:GREGORIAN
BEGIN:VEVENT
UID:ded6ea4aec3542e54479a705d26cdc06
DTSTAMP:20260422T224239Z
SUMMARY:4th Annual SBWC Adjuster Training Program
DESCRIPTION:We're excited to announce the Workers' Compensation Insurance A
 djuster Training Program is back at the fabulous Hotel at Avalon in Alphar
 etta\, GA - held in conjunction with our Annual Educational Conference Sep
 tember 1-2! Registration and sponsorship information will be available soo
 n!
URL:https://sbwc.georgia.gov/events/2026-09-01/adjuster-training-program
DTSTART;VALUE=DATE:20260901
DTEND;VALUE=DATE:20260903
LOCATION:The Hotel at Avalon 9000 Avalon Boulevard  Alpharetta\, GA 30009 U
 S
X-LIC-LOCATION:America/New_York
X-WR-TIMEZONE:America/New_York
END:VEVENT
BEGIN:VTIMEZONE
TZID:America/New_York
END:VTIMEZONE
END:VCALENDAR
