BEGIN:VCALENDAR
PRODID:sbwc.georgia.gov
VERSION:2.0
CALSCALE:GREGORIAN
BEGIN:VEVENT
UID:84eb1a9623e823ce60a7ad1c8e2673a6
DTSTAMP:20260422T224232Z
SUMMARY:2026 Regional Educational Series - Tifton
URL:https://sbwc.georgia.gov/events/2026-04-22/2026-regional-educational-se
 ries-tifton
DTSTART;VALUE=DATE:20260422
DTEND;VALUE=DATE:20260423
LOCATION:UGA Tifton Campus Conference Center 15 RDC Road  Tifton\, GA 31793
  US
X-LIC-LOCATION:America/New_York
X-WR-TIMEZONE:America/New_York
END:VEVENT
BEGIN:VTIMEZONE
TZID:America/New_York
END:VTIMEZONE
END:VCALENDAR
